<?xml version="1.0" encoding="UTF-8"?>
<Capabilities xmlns="http://www.opengis.net/wmts/1.0"
xmlns:ows="http://www.opengis.net/ows/1.1"
xmlns:xlink="http://www.w3.org/1999/xlink"
xmlns:xsi="http://www.w3.org/2001/XMLSchema-instance"
xmlns:gml="http://www.opengis.net/gml"
xsi:schemaLocation="http://www.opengis.net/wmts/1.0 http://schemas.opengis.net/wmts/1.0/wmtsGetCapabilities_response.xsd"
version="1.0.0">
<!-- Service Identification --> <ows:ServiceIdentification>
<ows:Title>PROYECTOS_ANLA_ProyectosANLA_Evaluacion</ows:Title>
<ows:ServiceType>OGC WMTS</ows:ServiceType>
<ows:ServiceTypeVersion>1.0.0</ows:ServiceTypeVersion>
</ows:ServiceIdentification> <!-- Operations Metadata --> <ows:OperationsMetadata>
<ows:Operation name="GetCapabilities">
<ows:DCP>
<ows:HTTP>
<ows:Get xlink:href="https://portalsig.anla.gov.co/publico/rest/services/PROYECTOS_ANLA/ProyectosANLA_Evaluacion/MapServer/WMTS/1.0.0/WMTSCapabilities.xml">
<ows:Constraint name="GetEncoding">
<ows:AllowedValues>
<ows:Value>RESTful</ows:Value>
</ows:AllowedValues>
</ows:Constraint>
</ows:Get>
<!-- add KVP binding in 10.1 -->
<ows:Get xlink:href="https://portalsig.anla.gov.co/publico/rest/services/PROYECTOS_ANLA/ProyectosANLA_Evaluacion/MapServer/WMTS?">
<ows:Constraint name="GetEncoding">
<ows:AllowedValues>
<ows:Value>KVP</ows:Value>
</ows:AllowedValues>
</ows:Constraint>
</ows:Get>
</ows:HTTP>
</ows:DCP>
</ows:Operation>
<ows:Operation name="GetTile">
<ows:DCP>
<ows:HTTP>
<ows:Get xlink:href="https://portalsig.anla.gov.co/publico/rest/services/PROYECTOS_ANLA/ProyectosANLA_Evaluacion/MapServer/WMTS/tile/1.0.0/">
<ows:Constraint name="GetEncoding">
<ows:AllowedValues>
<ows:Value>RESTful</ows:Value>
</ows:AllowedValues>
</ows:Constraint>
</ows:Get>
<ows:Get xlink:href="https://portalsig.anla.gov.co/publico/rest/services/PROYECTOS_ANLA/ProyectosANLA_Evaluacion/MapServer/WMTS?">
<ows:Constraint name="GetEncoding">
<ows:AllowedValues>
<ows:Value>KVP</ows:Value>
</ows:AllowedValues>
</ows:Constraint>
</ows:Get>
</ows:HTTP>
</ows:DCP>
</ows:Operation>
</ows:OperationsMetadata> <Contents>
<!--Layer--> <Layer>
<ows:Title>PROYECTOS_ANLA_ProyectosANLA_Evaluacion</ows:Title> <ows:Identifier>PROYECTOS_ANLA_ProyectosANLA_Evaluacion</ows:Identifier>
<ows:BoundingBox crs="urn:ogc:def:crs:EPSG::4686">
<ows:LowerCorner>0.2747094670000365 -82.12892876299998</ows:LowerCorner>
<ows:UpperCorner>13.001094694000074 -70.65725952299994</ows:UpperCorner>
</ows:BoundingBox> <ows:WGS84BoundingBox crs="urn:ogc:def:crs:OGC:2:84">
<ows:LowerCorner>-82.12892876299998 0.2747094669909754</ows:LowerCorner>
<ows:UpperCorner>-70.65725952299994 13.00109469358593</ows:UpperCorner>
</ows:WGS84BoundingBox>
<Style isDefault="true">
<ows:Title>Default Style</ows:Title>
<ows:Identifier>default</ows:Identifier>
</Style>
<Format>image/png</Format>
<TileMatrixSetLink>
<TileMatrixSet>default</TileMatrixSet>
</TileMatrixSetLink>
<ResourceURL format="image/png" resourceType="tile" template="https://portalsig.anla.gov.co/publico/rest/services/PROYECTOS_ANLA/ProyectosANLA_Evaluacion/MapServer/WMTS/tile/1.0.0/PROYECTOS_ANLA_ProyectosANLA_Evaluacion/{Style}/{TileMatrixSet}/{TileMatrix}/{TileRow}/{TileCol}.png" />
</Layer> <!--TileMatrixSet-->
<TileMatrixSet>
<ows:Title>TileMatrix using 0.28mm</ows:Title>
<ows:Abstract>The tile matrix set that has scale values calculated based on the dpi defined by OGC specification (dpi assumes 0.28mm as the physical distance of a pixel).</ows:Abstract> <ows:Identifier>default</ows:Identifier>
<ows:SupportedCRS>urn:ogc:def:crs:EPSG::4686</ows:SupportedCRS>
<TileMatrix>
<ows:Identifier>0</ows:Identifier>
<ScaleDenominator>7568011.072326972</ScaleDenominator>
<TopLeftCorner>9006799.25474099 -400.0</TopLeftCorner> <TileWidth>256</TileWidth> <TileHeight>256</TileHeight>
<MatrixWidth>68</MatrixWidth> <MatrixHeight>1848256</MatrixHeight>
</TileMatrix>
<TileMatrix>
<ows:Identifier>1</ows:Identifier>
<ScaleDenominator>3784005.536163486</ScaleDenominator>
<TopLeftCorner>9006799.25474099 -400.0</TopLeftCorner> <TileWidth>256</TileWidth> <TileHeight>256</TileHeight>
<MatrixWidth>136</MatrixWidth> <MatrixHeight>3696511</MatrixHeight>
</TileMatrix>
<TileMatrix>
<ows:Identifier>2</ows:Identifier>
<ScaleDenominator>1892002.768081743</ScaleDenominator>
<TopLeftCorner>9006799.25474099 -400.0</TopLeftCorner> <TileWidth>256</TileWidth> <TileHeight>256</TileHeight>
<MatrixWidth>271</MatrixWidth> <MatrixHeight>7393021</MatrixHeight>
</TileMatrix>
<TileMatrix>
<ows:Identifier>3</ows:Identifier>
<ScaleDenominator>946001.3840408715</ScaleDenominator>
<TopLeftCorner>9006799.25474099 -400.0</TopLeftCorner> <TileWidth>256</TileWidth> <TileHeight>256</TileHeight>
<MatrixWidth>541</MatrixWidth> <MatrixHeight>14786042</MatrixHeight>
</TileMatrix>
<TileMatrix>
<ows:Identifier>4</ows:Identifier>
<ScaleDenominator>473000.69202043576</ScaleDenominator>
<TopLeftCorner>9006799.25474099 -400.0</TopLeftCorner> <TileWidth>256</TileWidth> <TileHeight>256</TileHeight>
<MatrixWidth>1082</MatrixWidth> <MatrixHeight>29572083</MatrixHeight>
</TileMatrix>
<TileMatrix>
<ows:Identifier>5</ows:Identifier>
<ScaleDenominator>236500.34601021788</ScaleDenominator>
<TopLeftCorner>9006799.25474099 -400.0</TopLeftCorner> <TileWidth>256</TileWidth> <TileHeight>256</TileHeight>
<MatrixWidth>2163</MatrixWidth> <MatrixHeight>59144165</MatrixHeight>
</TileMatrix>
</TileMatrixSet>
</Contents>
<ServiceMetadataURL xlink:href="https://portalsig.anla.gov.co/publico/rest/services/PROYECTOS_ANLA/ProyectosANLA_Evaluacion/MapServer/WMTS/1.0.0/WMTSCapabilities.xml" /> </Capabilities>
